BEGIN:VCALENDAR
VERSION:2.0
PRODID:-//Gould Historic - ECPv6.15.20//NONSGML v1.0//EN
CALSCALE:GREGORIAN
METHOD:PUBLISH
X-WR-CALNAME:Gould Historic
X-ORIGINAL-URL:https://gouldhistoric.com
X-WR-CALDESC:Events for Gould Historic
REFRESH-INTERVAL;VALUE=DURATION:PT1H
X-Robots-Tag:noindex
X-PUBLISHED-TTL:PT1H
BEGIN:VTIMEZONE
TZID:UTC
BEGIN:STANDARD
TZOFFSETFROM:+0000
TZOFFSETTO:+0000
TZNAME:UTC
DTSTART:20250101T000000
END:STANDARD
END:VTIMEZONE
BEGIN:VEVENT
DTSTART;VALUE=DATE:20260919
DTEND;VALUE=DATE:20260920
DTSTAMP:20260418T112327
CREATED:20250718T150557Z
LAST-MODIFIED:20250718T150557Z
UID:9923-1789776000-1789862399@gouldhistoric.com
SUMMARY:Historic Home Tour in Owosso Michigan
DESCRIPTION:Owosso Historic Home Tour\nSaturday\, September 19th\, 2026\nStep back in time and discover the architectural treasures of Owosso! \nJoin us for a special Historic Home Tour featuring the long-awaited grand opening of the historic Amos Gould House to the public for the first time in many years. This exclusive tour offers a rare opportunity to explore one of Owosso’s most significant historic properties alongside other beautifully preserved homes that tell the story of our community’s rich heritage. \nTour Highlights\nThe Amos Gould House Grand Opening After years of careful restoration and preservation work\, the doors of this magnificent historic residence will finally open to welcome visitors. Discover the craftsmanship\, period details\, and fascinating stories that have been lovingly preserved within these walls. \nAdditional Historic Properties Explore several other carefully selected historic homes\, each offering unique architectural features and glimpses into different eras of Owosso’s past. From Victorian elegance to early 20th-century charm\, each stop on the tour showcases the diverse building traditions that shaped our community. \nWhat to Expect\n\nSelf-guided tours with knowledgeable docents at each location\nDetailed information about architectural features and historical significance\nStories of the families and notable figures who called these houses home\nBeautiful period furnishings and authentic room settings\nPhotography opportunities (exterior only)\n\nTour Details\n\nDate: Saturday\, September 19th\, 2026\nTime: 10:00 AM\nTickets: Available at tour headquarters and participating locations\nAccessibility: Please contact organizers for specific accessibility information\n\nThis is a rare chance to witness history come alive and celebrate the reopening of a treasured piece of Owosso’s architectural legacy. Don’t miss this special event that brings together community\, history\, and preservation. \nProceeds support ongoing historic preservation efforts in Owosso. \nFor more information and tickets\, contact The Owosso Historical Commission \nHistoric home Tour
URL:https://gouldhistoric.com/event/historic-home-tour-in-owosso-michigan/
CATEGORIES:Architecture,Community Event,Fundraiser,Grand Opening,Historic Preservation,Home Tour,Local History
ATTACH;FMTTYPE=image/png:https://gouldhistoric.com/wp-content/uploads/2025/07/Historic-home-Tour.png
ORGANIZER;CN="The Owosso Historical Commission":MAILTO:deniceg@owossohistory.org
END:VEVENT
END:VCALENDAR